BEGIN:VCALENDAR
VERSION:2.0
PRODID:-//St. Thomas More, Brighton-Le-Sands - ECPv5.4.0//NONSGML v1.0//EN
CALSCALE:GREGORIAN
METHOD:PUBLISH
X-WR-CALNAME:St. Thomas More, Brighton-Le-Sands
X-ORIGINAL-URL:https://www.thomasmorebrighton.org.au
X-WR-CALDESC:Events for St. Thomas More, Brighton-Le-Sands
BEGIN:VTIMEZONE
TZID:Australia/Sydney
BEGIN:STANDARD
TZOFFSETFROM:+1100
TZOFFSETTO:+1000
TZNAME:AEST
DTSTART:20190406T160000
END:STANDARD
BEGIN:DAYLIGHT
TZOFFSETFROM:+1000
TZOFFSETTO:+1100
TZNAME:AEDT
DTSTART:20191005T160000
END:DAYLIGHT
END:VTIMEZONE
BEGIN:VEVENT
DTSTART;TZID=Australia/Sydney:20190306T090000
DTEND;TZID=Australia/Sydney:20190306T190000
DTSTAMP:20210301T110337
CREATED:20190304T124543Z
LAST-MODIFIED:20190304T124659Z
UID:3919-1551862800-1551898800@www.thomasmorebrighton.org.au
SUMMARY:Ash Wednesday Mass Times
DESCRIPTION:Ash Wednesday is March the 6th\,  \nMass Times at St Thomas More Parish \, 298 Bay Street\, Brighton-Le-Sands are \nMorning – 9AM Mass – followed by Rosary \nEvening – 7PM Mass. \n 
URL:https://www.thomasmorebrighton.org.au/event/ash-wednesday-mass-times/
END:VEVENT
END:VCALENDAR