BEGIN:VCALENDAR
VERSION:2.0
PRODID:-//St. Thomas More, Brighton-Le-Sands - ECPv5.4.0//NONSGML v1.0//EN
CALSCALE:GREGORIAN
METHOD:PUBLISH
X-WR-CALNAME:St. Thomas More, Brighton-Le-Sands
X-ORIGINAL-URL:https://www.thomasmorebrighton.org.au
X-WR-CALDESC:Events for St. Thomas More, Brighton-Le-Sands
BEGIN:VTIMEZONE
TZID:Australia/Sydney
BEGIN:STANDARD
TZOFFSETFROM:+1100
TZOFFSETTO:+1000
TZNAME:AEST
DTSTART:20190406T160000
END:STANDARD
BEGIN:DAYLIGHT
TZOFFSETFROM:+1000
TZOFFSETTO:+1100
TZNAME:AEDT
DTSTART:20191005T160000
END:DAYLIGHT
END:VTIMEZONE
BEGIN:VEVENT
DTSTART;TZID=Australia/Sydney:20191005T164500
DTEND;TZID=Australia/Sydney:20191005T173000
DTSTAMP:20210301T102724
CREATED:20190918T124858Z
LAST-MODIFIED:20190923T113706Z
UID:4308-1570293900-1570296600@www.thomasmorebrighton.org.au
SUMMARY:Recitation of the Rosary
DESCRIPTION:As October is the month dedicated to the praying the Holy Rosary\, a public reciting of the Rosary will take place on the 5th of OCTOBER 2019\, SATURDAY at 4.45 PM in front of the Church (within the Bay Street church courtyard).\nWe invite everyone who can participate in our showing of public affection to Our Blessed Mother. \n 
URL:https://www.thomasmorebrighton.org.au/event/recitation-of-the-rosary/
LOCATION:St. Thomas More\, 298 Bay Street\,\, Brighton-Le-Sands\, NSW\, 2216\, Australia
END:VEVENT
END:VCALENDAR