BEGIN:VCALENDAR
VERSION:2.0
PRODID:-//St. Thomas More, Brighton-Le-Sands - ECPv5.4.0//NONSGML v1.0//EN
CALSCALE:GREGORIAN
METHOD:PUBLISH
X-WR-CALNAME:St. Thomas More, Brighton-Le-Sands
X-ORIGINAL-URL:https://www.thomasmorebrighton.org.au
X-WR-CALDESC:Events for St. Thomas More, Brighton-Le-Sands
BEGIN:VTIMEZONE
TZID:Australia/Sydney
BEGIN:STANDARD
TZOFFSETFROM:+1100
TZOFFSETTO:+1000
TZNAME:AEST
DTSTART:20190406T160000
END:STANDARD
BEGIN:DAYLIGHT
TZOFFSETFROM:+1000
TZOFFSETTO:+1100
TZNAME:AEDT
DTSTART:20191005T160000
END:DAYLIGHT
END:VTIMEZONE
BEGIN:VEVENT
DTSTART;TZID=Australia/Sydney:20191006T104500
DTEND;TZID=Australia/Sydney:20191006T113000
DTSTAMP:20210301T102736
CREATED:20190923T110552Z
LAST-MODIFIED:20190923T110552Z
UID:4315-1570358700-1570361400@www.thomasmorebrighton.org.au
SUMMARY:October Morning Tea
DESCRIPTION:October—Morning tea that will have the theme of the Holy Rosary \nVisit this website for inspiring recipes to bring along to the morning tea….\nhttps://catholiccuisine.blogspot.com/2011/09/recipes-for-october-month-dedicated-to.html \nPlease bring along a plate of food to share with others\, or a $ donation to help cover the costs of coffee and tea. \nThank you to those that always help with the morning tea\, we are always looking for helpers especially in the cleaning up. \nFirst Sunday Mornings teas\, promotes Community and gives parishioners a wonderful chance to meet those of our Parish\, that you see on a weekly basis\, and to meet new faces in our Parish.
URL:https://www.thomasmorebrighton.org.au/event/october-morning-tea/
LOCATION:St. Thomas More\, 298 Bay Street\,\, Brighton-Le-Sands\, NSW\, 2216\, Australia
END:VEVENT
END:VCALENDAR